BEGIN:VCALENDAR
VERSION:2.0
PRODID:-//Official Website of Holy Trinity University - ECPv6.15.13//NONSGML v1.0//EN
CALSCALE:GREGORIAN
METHOD:PUBLISH
X-ORIGINAL-URL:https://www.htu.edu.ph
X-WR-CALDESC:Events for Official Website of Holy Trinity University
REFRESH-INTERVAL;VALUE=DURATION:PT1H
X-Robots-Tag:noindex
X-PUBLISHED-TTL:PT1H
BEGIN:VTIMEZONE
TZID:Asia/Manila
BEGIN:STANDARD
TZOFFSETFROM:+0800
TZOFFSETTO:+0800
TZNAME:PST
DTSTART:20250101T000000
END:STANDARD
END:VTIMEZONE
BEGIN:VEVENT
DTSTART;VALUE=DATE:20260319
DTEND;VALUE=DATE:20260320
DTSTAMP:20260421T160958
CREATED:20260223T102744Z
LAST-MODIFIED:20260223T102744Z
UID:2220-1773878400-1773964799@www.htu.edu.ph
SUMMARY:3rd Educational Council Meeting
DESCRIPTION:
URL:https://www.htu.edu.ph/event/3rd-educational-council-meeting/
CATEGORIES:Board Meeting
END:VEVENT
END:VCALENDAR