BEGIN:VCALENDAR
VERSION:2.0
PRODID:-//Official Website of Holy Trinity University - ECPv6.15.13//NONSGML v1.0//EN
CALSCALE:GREGORIAN
METHOD:PUBLISH
X-WR-CALNAME:Official Website of Holy Trinity University
X-ORIGINAL-URL:https://www.htu.edu.ph
X-WR-CALDESC:Events for Official Website of Holy Trinity University
REFRESH-INTERVAL;VALUE=DURATION:PT1H
X-Robots-Tag:noindex
X-PUBLISHED-TTL:PT1H
BEGIN:VTIMEZONE
TZID:Asia/Manila
BEGIN:STANDARD
TZOFFSETFROM:+0800
TZOFFSETTO:+0800
TZNAME:PST
DTSTART:20250101T000000
END:STANDARD
END:VTIMEZONE
BEGIN:VEVENT
DTSTART;VALUE=DATE:20260427
DTEND;VALUE=DATE:20260428
DTSTAMP:20260421T201828
CREATED:20260421T085512Z
LAST-MODIFIED:20260421T090754Z
UID:2308-1777248000-1777334399@www.htu.edu.ph
SUMMARY:Graduate School - Start of 2nd Summer Regular Classes
DESCRIPTION:
URL:https://www.htu.edu.ph/event/graduate-school-start-of-2nd-summer-regular-classes/
CATEGORIES:Graduate School
END:VEVENT
END:VCALENDAR