BEGIN:VCALENDAR
VERSION:2.0
PRODID:-//Official Website of Holy Trinity University - ECPv6.15.13//NONSGML v1.0//EN
CALSCALE:GREGORIAN
METHOD:PUBLISH
X-ORIGINAL-URL:https://www.htu.edu.ph
X-WR-CALDESC:Events for Official Website of Holy Trinity University
REFRESH-INTERVAL;VALUE=DURATION:PT1H
X-Robots-Tag:noindex
X-PUBLISHED-TTL:PT1H
BEGIN:VTIMEZONE
TZID:Asia/Manila
BEGIN:STANDARD
TZOFFSETFROM:+0800
TZOFFSETTO:+0800
TZNAME:PST
DTSTART:20250101T000000
END:STANDARD
END:VTIMEZONE
BEGIN:VEVENT
DTSTART;VALUE=DATE:20260318
DTEND;VALUE=DATE:20260319
DTSTAMP:20260421T162721
CREATED:20260223T102706Z
LAST-MODIFIED:20260223T102706Z
UID:2218-1773792000-1773878399@www.htu.edu.ph
SUMMARY:7th Institutional Personnel's Growth Day (IPGD)
DESCRIPTION:
URL:https://www.htu.edu.ph/event/7th-institutional-personnels-growth-day-ipgd/
CATEGORIES:Institutional Event
END:VEVENT
BEGIN:VEVENT
DTSTART;VALUE=DATE:20260218
DTEND;VALUE=DATE:20260219
DTSTAMP:20260421T162721
CREATED:20260223T101249Z
LAST-MODIFIED:20260223T101249Z
UID:2196-1771372800-1771459199@www.htu.edu.ph
SUMMARY:6th Institutional Personnel's Growth Day (IPGD)
DESCRIPTION:
URL:https://www.htu.edu.ph/event/6th-institutional-personnels-growth-day-ipgd/
CATEGORIES:Institutional Event
END:VEVENT
BEGIN:VEVENT
DTSTART;VALUE=DATE:20260128
DTEND;VALUE=DATE:20260129
DTSTAMP:20260421T162721
CREATED:20260106T094249Z
LAST-MODIFIED:20260106T094249Z
UID:1803-1769558400-1769644799@www.htu.edu.ph
SUMMARY:5th IPGD
DESCRIPTION:
URL:https://www.htu.edu.ph/event/5th-ipgd/
CATEGORIES:Institutional Event
END:VEVENT
BEGIN:VEVENT
DTSTART;VALUE=DATE:20260128
DTEND;VALUE=DATE:20260129
DTSTAMP:20260421T162721
CREATED:20260106T094105Z
LAST-MODIFIED:20260106T094105Z
UID:1801-1769558400-1769644799@www.htu.edu.ph
SUMMARY:Personnel's Day
DESCRIPTION:
URL:https://www.htu.edu.ph/event/personnels-day/
CATEGORIES:Institutional Event
END:VEVENT
BEGIN:VEVENT
DTSTART;VALUE=DATE:20260128
DTEND;VALUE=DATE:20260129
DTSTAMP:20260421T162721
CREATED:20260106T093907Z
LAST-MODIFIED:20260106T094028Z
UID:1797-1769558400-1769644799@www.htu.edu.ph
SUMMARY:Feast of St. Thomas Aquinas
DESCRIPTION:
URL:https://www.htu.edu.ph/event/feast-of-st-thomas-aquinas/
CATEGORIES:Institutional Event
END:VEVENT
END:VCALENDAR